BEGIN:VCALENDAR
VERSION:2.0
PRODID:-//The Art Deco and Modernism Society of Australia Inc. - ECPv6.15.20//NONSGML v1.0//EN
CALSCALE:GREGORIAN
METHOD:PUBLISH
X-ORIGINAL-URL:https://www.artdeco.org.au
X-WR-CALDESC:Events for The Art Deco and Modernism Society of Australia Inc.
REFRESH-INTERVAL;VALUE=DURATION:PT1H
X-Robots-Tag:noindex
X-PUBLISHED-TTL:PT1H
BEGIN:VTIMEZONE
TZID:Australia/Melbourne
BEGIN:STANDARD
TZOFFSETFROM:+1100
TZOFFSETTO:+1000
TZNAME:AEST
DTSTART:20250405T160000
END:STANDARD
BEGIN:DAYLIGHT
TZOFFSETFROM:+1000
TZOFFSETTO:+1100
TZNAME:AEDT
DTSTART:20251004T160000
END:DAYLIGHT
BEGIN:STANDARD
TZOFFSETFROM:+1100
TZOFFSETTO:+1000
TZNAME:AEST
DTSTART:20260404T160000
END:STANDARD
BEGIN:DAYLIGHT
TZOFFSETFROM:+1000
TZOFFSETTO:+1100
TZNAME:AEDT
DTSTART:20261003T160000
END:DAYLIGHT
BEGIN:STANDARD
TZOFFSETFROM:+1100
TZOFFSETTO:+1000
TZNAME:AEST
DTSTART:20270403T160000
END:STANDARD
BEGIN:DAYLIGHT
TZOFFSETFROM:+1000
TZOFFSETTO:+1100
TZNAME:AEDT
DTSTART:20271002T160000
END:DAYLIGHT
END:VTIMEZONE
BEGIN:VEVENT
DTSTART;TZID=Australia/Melbourne:20260416T193000
DTEND;TZID=Australia/Melbourne:20260416T220000
DTSTAMP:20260424T095558
CREATED:20260225T093127Z
LAST-MODIFIED:20260317T091418Z
UID:5713-1776367800-1776376800@www.artdeco.org.au
SUMMARY:Presentation: Continental Living – Art Deco and Moderne flats in the City of Port Phillip
DESCRIPTION:Presentation: Continental Living – Art Deco and Moderne flats in the City of Port Phillip\nThursday 16 April 2026\, 7:30 pm for 8:00 pm start. \nJoin David Helms\, City of Port Phillip’s Principal Heritage Advisor\, to take us on a journey of continental living in the Art Deco and Moderne flats in Port Phillip. \nAfter World War I Melbourne faced a housing shortage and flats were seen as a solution to the problem. By the mid-1930s almost as many flats as houses were being built across the city and many of these were in St Kilda. By 1947 St Kilda contained 5\,500 flats\, a quarter of all flats in Melbourne – many built by European migrants and described as ‘The Continental Flat’. \nBook via TryBooking
URL:https://www.artdeco.org.au/event/presentation-continental-living-art-deco-and-moderne-flats-in-the-city-of-port-phillip-melbourne/
LOCATION:The Glasshouse Caulfield (in Caulfield Racecourse)\, 31 Station Street\, Caulfield East\, VIC\, 3145\, Australia
CATEGORIES:Talks and Presentations
ATTACH;FMTTYPE=image/jpeg:https://www.artdeco.org.au/wp-content/uploads/2026/02/The-Royal-scaled.jpg
END:VEVENT
END:VCALENDAR