BEGIN:VCALENDAR
VERSION:2.0
PRODID:-//The Art Deco and Modernism Society of Australia Inc. - ECPv6.15.20//NONSGML v1.0//EN
CALSCALE:GREGORIAN
METHOD:PUBLISH
X-ORIGINAL-URL:https://www.artdeco.org.au
X-WR-CALDESC:Events for The Art Deco and Modernism Society of Australia Inc.
REFRESH-INTERVAL;VALUE=DURATION:PT1H
X-Robots-Tag:noindex
X-PUBLISHED-TTL:PT1H
BEGIN:VTIMEZONE
TZID:Australia/Melbourne
BEGIN:STANDARD
TZOFFSETFROM:+1100
TZOFFSETTO:+1000
TZNAME:AEST
DTSTART:20240406T160000
END:STANDARD
BEGIN:DAYLIGHT
TZOFFSETFROM:+1000
TZOFFSETTO:+1100
TZNAME:AEDT
DTSTART:20241005T160000
END:DAYLIGHT
BEGIN:STANDARD
TZOFFSETFROM:+1100
TZOFFSETTO:+1000
TZNAME:AEST
DTSTART:20250405T160000
END:STANDARD
BEGIN:DAYLIGHT
TZOFFSETFROM:+1000
TZOFFSETTO:+1100
TZNAME:AEDT
DTSTART:20251004T160000
END:DAYLIGHT
BEGIN:STANDARD
TZOFFSETFROM:+1100
TZOFFSETTO:+1000
TZNAME:AEST
DTSTART:20260404T160000
END:STANDARD
BEGIN:DAYLIGHT
TZOFFSETFROM:+1000
TZOFFSETTO:+1100
TZNAME:AEDT
DTSTART:20261003T160000
END:DAYLIGHT
END:VTIMEZONE
BEGIN:VEVENT
DTSTART;TZID=Australia/Melbourne:20250918T200000
DTEND;TZID=Australia/Melbourne:20250918T213000
DTSTAMP:20260426T121802
CREATED:20250721T071944Z
LAST-MODIFIED:20250805T012922Z
UID:5558-1758225600-1758231000@www.artdeco.org.au
SUMMARY:Talk: From Modernism to Postmodernism: Evolution of style
DESCRIPTION:Join RMIT Architectural Historian Conrad Hayman as he explores the many reinventions of 20th century styles spanning neo-futurism\, metabolism\, modernism and the emergence of postmodernism in the late 1970s. \nDate: Thursday\, 18 September 2025\nTime: 7.45 pm for 8.00 pm start\nCost: Members $30\, Non-members $35\nVenue: The Glasshouse Caulfield (in Caulfield Racecourse)\, 31 Station Street Caulfield East 3145\n \n\nBook by Monday 15 September 2025 via TryBooking (+ $0.50 booking fee) or download and complete the Booking Form to pay by card\, cheque or EFT.\n \n\nBook via TryBooking Download Booking Form
URL:https://www.artdeco.org.au/event/talk-from-modernism-to-postmodernism-evolution-of-style/
LOCATION:The Glasshouse Caulfield (in Caulfield Racecourse)\, 31 Station Street\, Caulfield East\, VIC\, 3145\, Australia
CATEGORIES:Talks and Presentations
ATTACH;FMTTYPE=image/jpeg:https://www.artdeco.org.au/wp-content/uploads/2025/07/Modernist-talk-C20-Society-Phil-Sayer.jpg
END:VEVENT
BEGIN:VEVENT
DTSTART;TZID=Australia/Melbourne:20250921T103000
DTEND;TZID=Australia/Melbourne:20250921T120000
DTSTAMP:20260426T121802
CREATED:20250721T070858Z
LAST-MODIFIED:20250721T071159Z
UID:5544-1758450600-1758456000@www.artdeco.org.au
SUMMARY:Walking tour of Modernist Melbourne – City East
DESCRIPTION:Join us for a captivating exploration of Modernist Melbourne in the east of the CBD\, where we’ll uncover architectural treasures that illustrate the transformation of Melbourne’s built environment in the post-WWII period. \nOur tour begins with the iconic 1958 ICI building on Nicholson Street\, a striking example of International Style architecture featuring clean lines\, curtain walls of glass\, and an innovative use of reinforced concrete. \nFrom there\, you’ll marvel at a range of Brutalist buildings including a fire station\, with its raw concrete facades and imposing geometric form\, discover cinemas that embraced modernist aesthetics in their streamlined designs\, and car parks with sculptural ramps that are as much art as utility. \nWe’ll also explore brick apartment towers\, built between the 1950s and 1980s when the first wave of City Living was all the rage and so much more. \nBring your water bottle and dress for the weather.   \n\nDate: Sunday\, 21 September 2025\nTime: 10.30am 12.00 pm\nCost: Members $45\, Non-members $50\n\nMeet at 10.15 am Parliament Gardens: Corner Albert and Nicholson Streets East Melbourne \n\n \n\nTickets capped at 20. Book early to avoid disappointment via TryBooking (+ $0.50 booking fee) or download and complete the Booking Forn to pay by card\, cheque or EFT.\n \n\nBook via TryBooking Download Booking Form
URL:https://www.artdeco.org.au/event/walking-tour-of-modernist-melbourne-city-east-2/
LOCATION:Parliament Gardens\, corner Albert and Nicholson Streets\, East Melbourne\, Victoria\, 3002\, Australia
CATEGORIES:Walks and Tours
ATTACH;FMTTYPE=image/jpeg:https://www.artdeco.org.au/wp-content/uploads/2025/07/Modernism-Picture.jpg
END:VEVENT
END:VCALENDAR