BEGIN:VCALENDAR
VERSION:2.0
PRODID:-//The Art Deco and Modernism Society of Australia Inc. - ECPv6.15.20//NONSGML v1.0//EN
CALSCALE:GREGORIAN
METHOD:PUBLISH
X-WR-CALNAME:The Art Deco and Modernism Society of Australia Inc.
X-ORIGINAL-URL:https://www.artdeco.org.au
X-WR-CALDESC:Events for The Art Deco and Modernism Society of Australia Inc.
REFRESH-INTERVAL;VALUE=DURATION:PT1H
X-Robots-Tag:noindex
X-PUBLISHED-TTL:PT1H
BEGIN:VTIMEZONE
TZID:Australia/Melbourne
BEGIN:STANDARD
TZOFFSETFROM:+1100
TZOFFSETTO:+1000
TZNAME:AEST
DTSTART:20250405T160000
END:STANDARD
BEGIN:DAYLIGHT
TZOFFSETFROM:+1000
TZOFFSETTO:+1100
TZNAME:AEDT
DTSTART:20251004T160000
END:DAYLIGHT
BEGIN:STANDARD
TZOFFSETFROM:+1100
TZOFFSETTO:+1000
TZNAME:AEST
DTSTART:20260404T160000
END:STANDARD
BEGIN:DAYLIGHT
TZOFFSETFROM:+1000
TZOFFSETTO:+1100
TZNAME:AEDT
DTSTART:20261003T160000
END:DAYLIGHT
BEGIN:STANDARD
TZOFFSETFROM:+1100
TZOFFSETTO:+1000
TZNAME:AEST
DTSTART:20270403T160000
END:STANDARD
BEGIN:DAYLIGHT
TZOFFSETFROM:+1000
TZOFFSETTO:+1100
TZNAME:AEDT
DTSTART:20271002T160000
END:DAYLIGHT
END:VTIMEZONE
BEGIN:VEVENT
DTSTART;VALUE=DATE:20260428
DTEND;VALUE=DATE:20260429
DTSTAMP:20260424T082657
CREATED:20260225T095536Z
LAST-MODIFIED:20260423T040034Z
UID:5721-1777334400-1777420799@www.artdeco.org.au
SUMMARY:Celebrate World Art Deco Day wherever you are - Drinks and dress ups in Melbourne
DESCRIPTION:The 28th April is World Art Deco Day. Join us to celebrate 101 years of Art Deco at Nick and Nora’s in the Melbourne CBD. If you haven’t been to Nick and Nora’s before\, you will feel like you have stepped back to the 1920s in Paris\, New York or Shanghai! \nYou can show off your Art Deco couture and catch up with old and new Art Deco friends. \nThis is an informal social event where we have secured space for 20 people (without a function minimum spend). You will self cater for your drinks and any food. \nIf this goes well and people love the venue then we would love to organise a cocktail function at a later date which would be ticketed for the drinks and canapés on a function package. \nIf you’d like to stay on with dinner\, please book directly with Nick and Nora’s – or take a chance and decide on the night. \n– Attire – entirely at your discretion: Dress up to celebrate Art Deco with a piece of jewellery or something smart you feel comfortable in\n– Entry tickets: $5 \n– Drinks and food not provided and at your expense \nLocation: \nNick and Nora’s\nEntrance 11 Benson Walk\n80 Collins Street\nMelbourne\, VIC 3000 \nBook via TryBooking
URL:https://www.artdeco.org.au/event/celebrate-world-art-deco-day-wherever-you-are-drinks-and-dress-ups-in-melbourne/
LOCATION:Nick and Nora’s Melbourne\, Entrance 11 Benson Walk\, Melbourne\, Victoria\, 3000\, Australia
CATEGORIES:Other Events
END:VEVENT
END:VCALENDAR