BEGIN:VCALENDAR
VERSION:2.0
PRODID:-//The Art Deco and Modernism Society of Australia Inc. - ECPv6.15.20//NONSGML v1.0//EN
CALSCALE:GREGORIAN
METHOD:PUBLISH
X-WR-CALNAME:The Art Deco and Modernism Society of Australia Inc.
X-ORIGINAL-URL:https://www.artdeco.org.au
X-WR-CALDESC:Events for The Art Deco and Modernism Society of Australia Inc.
REFRESH-INTERVAL;VALUE=DURATION:PT1H
X-Robots-Tag:noindex
X-PUBLISHED-TTL:PT1H
BEGIN:VTIMEZONE
TZID:Australia/Melbourne
BEGIN:STANDARD
TZOFFSETFROM:+1100
TZOFFSETTO:+1000
TZNAME:AEST
DTSTART:20250405T160000
END:STANDARD
BEGIN:DAYLIGHT
TZOFFSETFROM:+1000
TZOFFSETTO:+1100
TZNAME:AEDT
DTSTART:20251004T160000
END:DAYLIGHT
BEGIN:STANDARD
TZOFFSETFROM:+1100
TZOFFSETTO:+1000
TZNAME:AEST
DTSTART:20260404T160000
END:STANDARD
BEGIN:DAYLIGHT
TZOFFSETFROM:+1000
TZOFFSETTO:+1100
TZNAME:AEDT
DTSTART:20261003T160000
END:DAYLIGHT
BEGIN:STANDARD
TZOFFSETFROM:+1100
TZOFFSETTO:+1000
TZNAME:AEST
DTSTART:20270403T160000
END:STANDARD
BEGIN:DAYLIGHT
TZOFFSETFROM:+1000
TZOFFSETTO:+1100
TZNAME:AEDT
DTSTART:20271002T160000
END:DAYLIGHT
END:VTIMEZONE
BEGIN:VEVENT
DTSTART;VALUE=DATE:20260428
DTEND;VALUE=DATE:20260429
DTSTAMP:20260424T021914
CREATED:20260225T095536Z
LAST-MODIFIED:20260423T040034Z
UID:5721-1777334400-1777420799@www.artdeco.org.au
SUMMARY:Celebrate World Art Deco Day wherever you are - Drinks and dress ups in Melbourne
DESCRIPTION:The 28th April is World Art Deco Day. Join us to celebrate 101 years of Art Deco at Nick and Nora’s in the Melbourne CBD. If you haven’t been to Nick and Nora’s before\, you will feel like you have stepped back to the 1920s in Paris\, New York or Shanghai! \nYou can show off your Art Deco couture and catch up with old and new Art Deco friends. \nThis is an informal social event where we have secured space for 20 people (without a function minimum spend). You will self cater for your drinks and any food. \nIf this goes well and people love the venue then we would love to organise a cocktail function at a later date which would be ticketed for the drinks and canapés on a function package. \nIf you’d like to stay on with dinner\, please book directly with Nick and Nora’s – or take a chance and decide on the night. \n– Attire – entirely at your discretion: Dress up to celebrate Art Deco with a piece of jewellery or something smart you feel comfortable in\n– Entry tickets: $5 \n– Drinks and food not provided and at your expense \nLocation: \nNick and Nora’s\nEntrance 11 Benson Walk\n80 Collins Street\nMelbourne\, VIC 3000 \nBook via TryBooking
URL:https://www.artdeco.org.au/event/celebrate-world-art-deco-day-wherever-you-are-drinks-and-dress-ups-in-melbourne/
LOCATION:Nick and Nora’s Melbourne\, Entrance 11 Benson Walk\, Melbourne\, Victoria\, 3000\, Australia
CATEGORIES:Other Events
END:VEVENT
BEGIN:VEVENT
DTSTART;TZID=Australia/Melbourne:20260517T103000
DTEND;TZID=Australia/Melbourne:20260517T103000
DTSTAMP:20260424T021914
CREATED:20260225T100157Z
LAST-MODIFIED:20260322T003650Z
UID:5724-1779013800-1779013800@www.artdeco.org.au
SUMMARY:Walking Tour: Mount Eagle
DESCRIPTION:In an exclusive residential enclave\, the walk takes us past Interwar properties\, several of which could be described as ‘Art Deco’ or ‘Modernist’. \nThis part of Eaglemont was laid out between 1914 and 1916 by Walter Burley Griffin\, the American-born architect who is renowned for designing Canberra as well as Melbourne’s Capitol Theatre and Newman College. \nWe will walk through one of Burley Griffin’s 7 private park reserves built behind the houses for the community to share\, a key principle of Griffin’s utopian principles. We will see one of his larger houses which is startlingly modern for 1927. \nThe walk is also in the footsteps of the so-called ‘Heidelberg School’ painters who camped in a derelict house that once stood in rural isolation and where they drew inspiration from the landscape and from each other during the 2 ‘Golden Summers’ of 1888 to 1890\, developing an Australian version of Impressionism. \nAn absolute highlight of the walk will be a tour inside one of the 3 pioneering Australian Arts and Crafts houses designed by Harold Desbrowe Annear in 1903. The beautiful and faithfully restored architect’s ‘Own House’ demonstrates the shift from prevailing Italianate and Queen Anne suburban taste as it embraced innovative modern design in the twentieth century. \nWalking notes: There are some sloping streets and a short descent along a rough track with steps\, so the walk is not suitable for those with mobility problems. \nCost: Members $45\, Non-members $50 \nBook via TryBooking \nMeet: Corner of The Eyrie and Summit Drive between 10:15 and 10:25 am for a 10:30 am start. The walk will finish at the same point.\nDriving: Approach The Eyrie from the west (note it is not accessible from the east).\nParking: The Eyrie should have kerbside parking available.\nTrain: Eaglemont Station on the Hurstbridge line with a 900 metre uphill walk to the starting point. \nBring your water bottle and dress for the weather.
URL:https://www.artdeco.org.au/event/walking-tour-mount-eagle-melbourne/
CATEGORIES:Walks and Tours
ATTACH;FMTTYPE=image/jpeg:https://www.artdeco.org.au/wp-content/uploads/2026/02/Eaglemont-walk.jpg
END:VEVENT
BEGIN:VEVENT
DTSTART;TZID=Australia/Melbourne:20260517T181500
DTEND;TZID=Australia/Melbourne:20260517T191500
DTSTAMP:20260424T021914
CREATED:20260322T010745Z
LAST-MODIFIED:20260322T012841Z
UID:5824-1779041700-1779045300@www.artdeco.org.au
SUMMARY:Social Function: Post-screening Lempicka Documentary
DESCRIPTION:We are holding a social function after the Sun Theatre’s one-off screening of the documentary\, The True Story of Tamara de Lempicka and The Art of Survival. \nJoin us in the sumptuous Art Deco Le Salon (6:15 pm to 7:15 pm) to chat with fellow Art Deco lovers to discuss the film while enjoying a post-film snack and grab a drink at bar prices. Don’t forget to dress up for the event to show off a favourite Art Deco outfit! – fun but definitely not compulsory. \nTickets via TryBooking\, at $15 each\, are ONLY for the after-screening social function. \nBook via TryBooking \nBOOK FILM TICKETS with allocated seats (4:30 to 6:10 pm) directly with Sun Theatre\, Yarraville (https://www.movietkts.com.au/selectsession.php?siteCode=SUNCIN&movieCode=S256TAMARADELEMP). \nThe film: A visually stunning and sweeping feature documentary that traces the life and survival of the renowned painter through her powerful paintings – from her rise to international stardom in 1920s Paris\, to her move to the United States in 1940\, fleeing the rise of fascism\, and her revival in the current art market. Tamara de Lempicka was the preeminent Art Deco painter\, known for her high-gloss sensual nudes and portraits of high society during the Jazz Age. She was marginalised and gained notoriety for her romantic liaisons with her models and her indulgent\, decadent lifestyle\, but she was so much more. \n\n \n 
URL:https://www.artdeco.org.au/event/social-function-lempicka-documentary-post-screening/
LOCATION:Sun Theatre\, 8 Ballarat Street\, yarraville\, Victoria\, 3013\, Australia
CATEGORIES:Other Events
ATTACH;FMTTYPE=image/jpeg:https://www.artdeco.org.au/wp-content/uploads/2026/03/Lempicka.jpg
END:VEVENT
BEGIN:VEVENT
DTSTART;TZID=Australia/Melbourne:20260628T103000
DTEND;TZID=Australia/Melbourne:20260628T123000
DTSTAMP:20260424T021914
CREATED:20260423T042026Z
LAST-MODIFIED:20260423T042130Z
UID:5863-1782642600-1782649800@www.artdeco.org.au
SUMMARY:Walking Tour: North Balwyn
DESCRIPTION:Save the date. Program and ticket details to be available soon.
URL:https://www.artdeco.org.au/event/walking-tour-north-balwyn/
CATEGORIES:Walks and Tours
END:VEVENT
BEGIN:VEVENT
DTSTART;TZID=Australia/Melbourne:20260723T193000
DTEND;TZID=Australia/Melbourne:20260723T220000
DTSTAMP:20260424T021914
CREATED:20260423T042433Z
LAST-MODIFIED:20260423T042433Z
UID:5866-1784835000-1784844000@www.artdeco.org.au
SUMMARY:Presentation: Art Deco Animalia with Peter Sheridan
DESCRIPTION:Save the date. Venue and ticket details to come soon.
URL:https://www.artdeco.org.au/event/presentation-art-deco-animalia-with-peter-sheridan/
CATEGORIES:Talks and Presentations
END:VEVENT
BEGIN:VEVENT
DTSTART;VALUE=DATE:20260816
DTEND;VALUE=DATE:20260817
DTSTAMP:20260424T021914
CREATED:20260423T042731Z
LAST-MODIFIED:20260423T042831Z
UID:5868-1786838400-1786924799@www.artdeco.org.au
SUMMARY:Exclusive Home Tour: East St Kilda
DESCRIPTION:Save the date. Program and ticket details to come soon.
URL:https://www.artdeco.org.au/event/exclusive-home-tour-east-st-kilda/
CATEGORIES:Walks and Tours
END:VEVENT
BEGIN:VEVENT
DTSTART;TZID=Australia/Melbourne:20261022T193000
DTEND;TZID=Australia/Melbourne:20261022T193000
DTSTAMP:20260424T021914
CREATED:20260225T100556Z
LAST-MODIFIED:20260302T031529Z
UID:5727-1792697400-1792697400@www.artdeco.org.au
SUMMARY:Annual General Meeting
DESCRIPTION:Annual General Meeting\nThursday 22 October 2026\, 7:30 pm \nSave the date.
URL:https://www.artdeco.org.au/event/annual-general-meeting-2/
CATEGORIES:AGM
END:VEVENT
BEGIN:VEVENT
DTSTART;VALUE=DATE:20261108
DTEND;VALUE=DATE:20261109
DTSTAMP:20260424T021914
CREATED:20260225T100856Z
LAST-MODIFIED:20260302T030842Z
UID:5729-1794096000-1794182399@www.artdeco.org.au
SUMMARY:Tour & Lunch: Castlemaine Art Deco
DESCRIPTION:Sunday 8 November 2026 \nSave the date. Program and ticket details to be available soon.
URL:https://www.artdeco.org.au/event/castlemaine-art-deco-tour-and-lunch/
CATEGORIES:Walks and Tours
END:VEVENT
END:VCALENDAR