BEGIN:VCALENDAR
VERSION:2.0
PRODID:-//The Art Deco and Modernism Society of Australia Inc. - ECPv6.15.20//NONSGML v1.0//EN
CALSCALE:GREGORIAN
METHOD:PUBLISH
X-WR-CALNAME:The Art Deco and Modernism Society of Australia Inc.
X-ORIGINAL-URL:https://www.artdeco.org.au
X-WR-CALDESC:Events for The Art Deco and Modernism Society of Australia Inc.
REFRESH-INTERVAL;VALUE=DURATION:PT1H
X-Robots-Tag:noindex
X-PUBLISHED-TTL:PT1H
BEGIN:VTIMEZONE
TZID:Australia/Melbourne
BEGIN:STANDARD
TZOFFSETFROM:+1100
TZOFFSETTO:+1000
TZNAME:AEST
DTSTART:20250405T160000
END:STANDARD
BEGIN:DAYLIGHT
TZOFFSETFROM:+1000
TZOFFSETTO:+1100
TZNAME:AEDT
DTSTART:20251004T160000
END:DAYLIGHT
BEGIN:STANDARD
TZOFFSETFROM:+1100
TZOFFSETTO:+1000
TZNAME:AEST
DTSTART:20260404T160000
END:STANDARD
BEGIN:DAYLIGHT
TZOFFSETFROM:+1000
TZOFFSETTO:+1100
TZNAME:AEDT
DTSTART:20261003T160000
END:DAYLIGHT
BEGIN:STANDARD
TZOFFSETFROM:+1100
TZOFFSETTO:+1000
TZNAME:AEST
DTSTART:20270403T160000
END:STANDARD
BEGIN:DAYLIGHT
TZOFFSETFROM:+1000
TZOFFSETTO:+1100
TZNAME:AEDT
DTSTART:20271002T160000
END:DAYLIGHT
END:VTIMEZONE
BEGIN:VEVENT
DTSTART;TZID=Australia/Melbourne:20260312T193000
DTEND;TZID=Australia/Melbourne:20260312T203000
DTSTAMP:20260421T101914
CREATED:20260301T232710Z
LAST-MODIFIED:20260301T233406Z
UID:5766-1773343800-1773347400@www.artdeco.org.au
SUMMARY:Online Presentation: Mumbai\, Art Deco Jewel of India
DESCRIPTION:Date: Thursday 12 March 2026\nTime: 7:25 pm for 7:30 pm \nJoin us online to hear Atul Kumar\, Founder Trustee of Art Deco Mumbai Trust\, present Mumbai: Art Deco Jewel of India\, a 45-minute visual presentation to be followed by a 15-minute Q&A.  \nAtul will take us on a virtual tour of select Art Deco buildings to help us identify and appreciate their role in making Mumbai’s Art Deco jewels so unique – which would only otherwise be possible by visiting this Indian city.  \nMumbai\, India’s financial and film capital\, boasts the world’s second-largest collection of Art Deco buildings. The style arrived in Mumbai\, then known as Bombay\, in the early 1930s and continued to develop until the mid-1950s.  \nBook via TryBooking Download Booking Form
URL:https://www.artdeco.org.au/event/online-presentation-mumbai-art-deco-jewel-of-india/
CATEGORIES:Talks and Presentations
ATTACH;FMTTYPE=image/jpeg:https://www.artdeco.org.au/wp-content/uploads/2026/03/2_Shiv-Shanti-Bhuvan_Oval-Maidan.jpeg
END:VEVENT
END:VCALENDAR